BEGIN:VCALENDAR
VERSION:2.0
PRODID:-//Wil Lou Gray Opportunity School - ECPv6.15.20//NONSGML v1.0//EN
CALSCALE:GREGORIAN
METHOD:PUBLISH
X-WR-CALNAME:Wil Lou Gray Opportunity School
X-ORIGINAL-URL:https://willougray.org
X-WR-CALDESC:Events for Wil Lou Gray Opportunity School
REFRESH-INTERVAL;VALUE=DURATION:PT1H
X-Robots-Tag:noindex
X-PUBLISHED-TTL:PT1H
BEGIN:VTIMEZONE
TZID:UTC
BEGIN:STANDARD
TZOFFSETFROM:+0000
TZOFFSETTO:+0000
TZNAME:UTC
DTSTART:20180101T000000
END:STANDARD
END:VTIMEZONE
BEGIN:VEVENT
DTSTART;TZID=UTC:20210617T140000
DTEND;TZID=UTC:20210617T160000
DTSTAMP:20260420T050628
CREATED:20201130T160322Z
LAST-MODIFIED:20201130T160322Z
UID:1786-1623938400-1623945600@willougray.org
SUMMARY:Last Day Pickup: Session 3
DESCRIPTION:
URL:https://willougray.org/event/last-day-pickup-session-3/
CATEGORIES:Session 3
END:VEVENT
BEGIN:VEVENT
DTSTART;TZID=UTC:20210405T090000
DTEND;TZID=UTC:20210405T100000
DTSTAMP:20260420T050628
CREATED:20201130T160229Z
LAST-MODIFIED:20201130T160229Z
UID:1784-1617613200-1617616800@willougray.org
SUMMARY:Student Registration: Session 3
DESCRIPTION:
URL:https://willougray.org/event/student-registration-session-3/
CATEGORIES:Session 3
END:VEVENT
BEGIN:VEVENT
DTSTART;TZID=UTC:20210401T140000
DTEND;TZID=UTC:20210401T160000
DTSTAMP:20260420T050628
CREATED:20201130T160117Z
LAST-MODIFIED:20201130T160117Z
UID:1782-1617285600-1617292800@willougray.org
SUMMARY:Last Day Pickup: Session 2
DESCRIPTION:
URL:https://willougray.org/event/last-day-pickup-session-2/
CATEGORIES:Session 2
END:VEVENT
BEGIN:VEVENT
DTSTART;TZID=UTC:20210104T090000
DTEND;TZID=UTC:20210104T100000
DTSTAMP:20260420T050628
CREATED:20201130T160018Z
LAST-MODIFIED:20201130T160018Z
UID:1780-1609750800-1609754400@willougray.org
SUMMARY:Student Registration: Session 2
DESCRIPTION:
URL:https://willougray.org/event/student-registration-session-2/
CATEGORIES:Session 2
END:VEVENT
BEGIN:VEVENT
DTSTART;TZID=UTC:20201124T090000
DTEND;TZID=UTC:20201124T090000
DTSTAMP:20260420T050628
CREATED:20200720T193305Z
LAST-MODIFIED:20200720T193413Z
UID:1734-1606208400-1606208400@willougray.org
SUMMARY:LAST DAY PICKUP: SESSION 1
DESCRIPTION:
URL:https://willougray.org/event/last-day-pickup-session-1/
END:VEVENT
BEGIN:VEVENT
DTSTART;TZID=UTC:20200908T090000
DTEND;TZID=UTC:20200908T100000
DTSTAMP:20260420T050628
CREATED:20200611T200650Z
LAST-MODIFIED:20200720T193114Z
UID:1704-1599555600-1599559200@willougray.org
SUMMARY:STUDENT REGISTRATION: SESSION 1
DESCRIPTION:
URL:https://willougray.org/event/student-registration-session-1/
CATEGORIES:Session 1
END:VEVENT
BEGIN:VEVENT
DTSTART;TZID=UTC:20200422T191317
DTEND;TZID=UTC:20200422T191317
DTSTAMP:20260420T050628
CREATED:20200422T191317Z
LAST-MODIFIED:20200422T191317Z
UID:1659-1587582797-1587582797@willougray.org
SUMMARY:Wil Lou Gray will stay closed for the remainder of the year.
DESCRIPTION:
URL:https://willougray.org/event/wil-lou-gray-will-stay-closed-for-the-remainder-of-the-year/
END:VEVENT
BEGIN:VEVENT
DTSTART;TZID=UTC:20200302T083000
DTEND;TZID=UTC:20200302T100000
DTSTAMP:20260420T050628
CREATED:20191210T193921Z
LAST-MODIFIED:20191210T193922Z
UID:1232-1583137800-1583143200@willougray.org
SUMMARY:Session 3: Registration Day
DESCRIPTION:
URL:https://willougray.org/event/session-3-registration-day/
CATEGORIES:Session 3
END:VEVENT
BEGIN:VEVENT
DTSTART;TZID=UTC:20200213T090000
DTEND;TZID=UTC:20200213T110000
DTSTAMP:20260420T050628
CREATED:20191204T192809Z
LAST-MODIFIED:20191204T194707Z
UID:1031-1581584400-1581591600@willougray.org
SUMMARY:Session 2: Students Pickup
DESCRIPTION:
URL:https://willougray.org/event/students-pickup/
CATEGORIES:Session 2
END:VEVENT
BEGIN:VEVENT
DTSTART;TZID=UTC:20200102T170000
DTEND;TZID=UTC:20200102T190000
DTSTAMP:20260420T050628
CREATED:20191204T192642Z
LAST-MODIFIED:20191204T194324Z
UID:1029-1577984400-1577991600@willougray.org
SUMMARY:Session 2: Students Return
DESCRIPTION:
URL:https://willougray.org/event/students-return/
CATEGORIES:Session 2
END:VEVENT
BEGIN:VEVENT
DTSTART;TZID=UTC:20191220T130000
DTEND;TZID=UTC:20191220T150000
DTSTAMP:20260420T050628
CREATED:20191204T175730Z
LAST-MODIFIED:20191204T204654Z
UID:1015-1576846800-1576854000@willougray.org
SUMMARY:Session 2:   JROTC Lunch & Pickup
DESCRIPTION:
URL:https://willougray.org/event/jrotc-lnch-pickup/
CATEGORIES:Session 2
END:VEVENT
END:VCALENDAR